BEGIN:VCALENDAR
VERSION:2.0
PRODID:-//Câmara Municipal de Pavão - ECPv6.15.11//NONSGML v1.0//EN
CALSCALE:GREGORIAN
METHOD:PUBLISH
X-WR-CALNAME:Câmara Municipal de Pavão
X-ORIGINAL-URL:http://camarapavao.mg.gov.br
X-WR-CALDESC:Eventos para Câmara Municipal de Pavão
REFRESH-INTERVAL;VALUE=DURATION:PT1H
X-Robots-Tag:noindex
X-PUBLISHED-TTL:PT1H
BEGIN:VTIMEZONE
TZID:America/Sao_Paulo
BEGIN:STANDARD
TZOFFSETFROM:-0300
TZOFFSETTO:-0300
TZNAME:-03
DTSTART:20240101T000000
END:STANDARD
END:VTIMEZONE
BEGIN:VEVENT
DTSTART;TZID=America/Sao_Paulo:20250203T183000
DTEND;TZID=America/Sao_Paulo:20250203T235900
DTSTAMP:20260424T055452
CREATED:20250123T022144Z
LAST-MODIFIED:20250131T121017Z
UID:9379-1738607400-1738627140@camarapavao.mg.gov.br
SUMMARY:Reunião Ordinária
DESCRIPTION:
URL:http://camarapavao.mg.gov.br/eventos/reuniao-ordinaria/
LOCATION:Câmara Municipal de Lorena/SP\, Praça Baronesa de Santa Eulália\, nº 02 Centro\, Lorena\, SP\, 12600-180\, Brazil
END:VEVENT
BEGIN:VEVENT
DTSTART;TZID=America/Sao_Paulo:20250203T183000
DTEND;TZID=America/Sao_Paulo:20250203T235900
DTSTAMP:20260424T055452
CREATED:20250123T022144Z
LAST-MODIFIED:20250131T121017Z
UID:9379-1738607400-1738627140@camarapavao.mg.gov.br
SUMMARY:Reunião Ordinária
DESCRIPTION:
URL:http://camarapavao.mg.gov.br/eventos/reuniao-ordinaria/
LOCATION:Câmara Municipal de Lorena/SP\, Praça Baronesa de Santa Eulália\, nº 02 Centro\, Lorena\, SP\, 12600-180\, Brazil
END:VEVENT
BEGIN:VEVENT
DTSTART;TZID=America/Sao_Paulo:20250203T183000
DTEND;TZID=America/Sao_Paulo:20250203T235900
DTSTAMP:20260424T055452
CREATED:20250123T022144Z
LAST-MODIFIED:20250131T121017Z
UID:9379-1738607400-1738627140@camarapavao.mg.gov.br
SUMMARY:Reunião Ordinária
DESCRIPTION:
URL:http://camarapavao.mg.gov.br/eventos/reuniao-ordinaria/
LOCATION:Câmara Municipal de Lorena/SP\, Praça Baronesa de Santa Eulália\, nº 02 Centro\, Lorena\, SP\, 12600-180\, Brazil
END:VEVENT
BEGIN:VEVENT
DTSTART;TZID=America/Sao_Paulo:20250203T183000
DTEND;TZID=America/Sao_Paulo:20250203T235900
DTSTAMP:20260424T055452
CREATED:20250123T022144Z
LAST-MODIFIED:20250131T121017Z
UID:9379-1738607400-1738627140@camarapavao.mg.gov.br
SUMMARY:Reunião Ordinária
DESCRIPTION:
URL:http://camarapavao.mg.gov.br/eventos/reuniao-ordinaria/
LOCATION:Câmara Municipal de Lorena/SP\, Praça Baronesa de Santa Eulália\, nº 02 Centro\, Lorena\, SP\, 12600-180\, Brazil
END:VEVENT
BEGIN:VEVENT
DTSTART;TZID=America/Sao_Paulo:20250203T183000
DTEND;TZID=America/Sao_Paulo:20250203T235900
DTSTAMP:20260424T055452
CREATED:20250123T022144Z
LAST-MODIFIED:20250131T121017Z
UID:9379-1738607400-1738627140@camarapavao.mg.gov.br
SUMMARY:Reunião Ordinária
DESCRIPTION:
URL:http://camarapavao.mg.gov.br/eventos/reuniao-ordinaria/
LOCATION:Câmara Municipal de Lorena/SP\, Praça Baronesa de Santa Eulália\, nº 02 Centro\, Lorena\, SP\, 12600-180\, Brazil
END:VEVENT
BEGIN:VEVENT
DTSTART;TZID=America/Sao_Paulo:20250203T183000
DTEND;TZID=America/Sao_Paulo:20250203T235900
DTSTAMP:20260424T055452
CREATED:20250123T022144Z
LAST-MODIFIED:20250131T121017Z
UID:9379-1738607400-1738627140@camarapavao.mg.gov.br
SUMMARY:Reunião Ordinária
DESCRIPTION:
URL:http://camarapavao.mg.gov.br/eventos/reuniao-ordinaria/
LOCATION:Câmara Municipal de Lorena/SP\, Praça Baronesa de Santa Eulália\, nº 02 Centro\, Lorena\, SP\, 12600-180\, Brazil
END:VEVENT
BEGIN:VEVENT
DTSTART;TZID=America/Sao_Paulo:20250203T183000
DTEND;TZID=America/Sao_Paulo:20250203T235900
DTSTAMP:20260424T055452
CREATED:20250123T022144Z
LAST-MODIFIED:20250131T121017Z
UID:9379-1738607400-1738627140@camarapavao.mg.gov.br
SUMMARY:Reunião Ordinária
DESCRIPTION:
URL:http://camarapavao.mg.gov.br/eventos/reuniao-ordinaria/
LOCATION:Câmara Municipal de Lorena/SP\, Praça Baronesa de Santa Eulália\, nº 02 Centro\, Lorena\, SP\, 12600-180\, Brazil
END:VEVENT
BEGIN:VEVENT
DTSTART;TZID=America/Sao_Paulo:20250203T183000
DTEND;TZID=America/Sao_Paulo:20250203T235900
DTSTAMP:20260424T055452
CREATED:20250123T022144Z
LAST-MODIFIED:20250131T121017Z
UID:9379-1738607400-1738627140@camarapavao.mg.gov.br
SUMMARY:Reunião Ordinária
DESCRIPTION:
URL:http://camarapavao.mg.gov.br/eventos/reuniao-ordinaria/
LOCATION:Câmara Municipal de Lorena/SP\, Praça Baronesa de Santa Eulália\, nº 02 Centro\, Lorena\, SP\, 12600-180\, Brazil
END:VEVENT
BEGIN:VEVENT
DTSTART;TZID=America/Sao_Paulo:20250203T183000
DTEND;TZID=America/Sao_Paulo:20250203T235900
DTSTAMP:20260424T055452
CREATED:20250123T022144Z
LAST-MODIFIED:20250131T121017Z
UID:9379-1738607400-1738627140@camarapavao.mg.gov.br
SUMMARY:Reunião Ordinária
DESCRIPTION:
URL:http://camarapavao.mg.gov.br/eventos/reuniao-ordinaria/
LOCATION:Câmara Municipal de Lorena/SP\, Praça Baronesa de Santa Eulália\, nº 02 Centro\, Lorena\, SP\, 12600-180\, Brazil
END:VEVENT
BEGIN:VEVENT
DTSTART;TZID=America/Sao_Paulo:20250203T183000
DTEND;TZID=America/Sao_Paulo:20250203T235900
DTSTAMP:20260424T055452
CREATED:20250123T022144Z
LAST-MODIFIED:20250131T121017Z
UID:9379-1738607400-1738627140@camarapavao.mg.gov.br
SUMMARY:Reunião Ordinária
DESCRIPTION:
URL:http://camarapavao.mg.gov.br/eventos/reuniao-ordinaria/
LOCATION:Câmara Municipal de Lorena/SP\, Praça Baronesa de Santa Eulália\, nº 02 Centro\, Lorena\, SP\, 12600-180\, Brazil
END:VEVENT
BEGIN:VEVENT
DTSTART;TZID=America/Sao_Paulo:20250203T183000
DTEND;TZID=America/Sao_Paulo:20250203T235900
DTSTAMP:20260424T055452
CREATED:20250123T022144Z
LAST-MODIFIED:20250131T121017Z
UID:9379-1738607400-1738627140@camarapavao.mg.gov.br
SUMMARY:Reunião Ordinária
DESCRIPTION:
URL:http://camarapavao.mg.gov.br/eventos/reuniao-ordinaria/
LOCATION:Câmara Municipal de Lorena/SP\, Praça Baronesa de Santa Eulália\, nº 02 Centro\, Lorena\, SP\, 12600-180\, Brazil
END:VEVENT
BEGIN:VEVENT
DTSTART;TZID=America/Sao_Paulo:20250203T183000
DTEND;TZID=America/Sao_Paulo:20250203T235900
DTSTAMP:20260424T055452
CREATED:20250123T022144Z
LAST-MODIFIED:20250131T121017Z
UID:9379-1738607400-1738627140@camarapavao.mg.gov.br
SUMMARY:Reunião Ordinária
DESCRIPTION:
URL:http://camarapavao.mg.gov.br/eventos/reuniao-ordinaria/
LOCATION:Câmara Municipal de Lorena/SP\, Praça Baronesa de Santa Eulália\, nº 02 Centro\, Lorena\, SP\, 12600-180\, Brazil
END:VEVENT
BEGIN:VEVENT
DTSTART;TZID=America/Sao_Paulo:20250203T183000
DTEND;TZID=America/Sao_Paulo:20250203T235900
DTSTAMP:20260424T055452
CREATED:20250123T022144Z
LAST-MODIFIED:20250131T121017Z
UID:9379-1738607400-1738627140@camarapavao.mg.gov.br
SUMMARY:Reunião Ordinária
DESCRIPTION:
URL:http://camarapavao.mg.gov.br/eventos/reuniao-ordinaria/
LOCATION:Câmara Municipal de Lorena/SP\, Praça Baronesa de Santa Eulália\, nº 02 Centro\, Lorena\, SP\, 12600-180\, Brazil
END:VEVENT
BEGIN:VEVENT
DTSTART;TZID=America/Sao_Paulo:20250203T183000
DTEND;TZID=America/Sao_Paulo:20250203T235900
DTSTAMP:20260424T055452
CREATED:20250123T022144Z
LAST-MODIFIED:20250131T121017Z
UID:9379-1738607400-1738627140@camarapavao.mg.gov.br
SUMMARY:Reunião Ordinária
DESCRIPTION:
URL:http://camarapavao.mg.gov.br/eventos/reuniao-ordinaria/
LOCATION:Câmara Municipal de Lorena/SP\, Praça Baronesa de Santa Eulália\, nº 02 Centro\, Lorena\, SP\, 12600-180\, Brazil
END:VEVENT
BEGIN:VEVENT
DTSTART;TZID=America/Sao_Paulo:20250203T183000
DTEND;TZID=America/Sao_Paulo:20250203T235900
DTSTAMP:20260424T055452
CREATED:20250123T022144Z
LAST-MODIFIED:20250131T121017Z
UID:9379-1738607400-1738627140@camarapavao.mg.gov.br
SUMMARY:Reunião Ordinária
DESCRIPTION:
URL:http://camarapavao.mg.gov.br/eventos/reuniao-ordinaria/
LOCATION:Câmara Municipal de Lorena/SP\, Praça Baronesa de Santa Eulália\, nº 02 Centro\, Lorena\, SP\, 12600-180\, Brazil
END:VEVENT
BEGIN:VEVENT
DTSTART;TZID=America/Sao_Paulo:20250203T183000
DTEND;TZID=America/Sao_Paulo:20250203T235900
DTSTAMP:20260424T055452
CREATED:20250123T022144Z
LAST-MODIFIED:20250131T121017Z
UID:9379-1738607400-1738627140@camarapavao.mg.gov.br
SUMMARY:Reunião Ordinária
DESCRIPTION:
URL:http://camarapavao.mg.gov.br/eventos/reuniao-ordinaria/
LOCATION:Câmara Municipal de Lorena/SP\, Praça Baronesa de Santa Eulália\, nº 02 Centro\, Lorena\, SP\, 12600-180\, Brazil
END:VEVENT
BEGIN:VEVENT
DTSTART;TZID=America/Sao_Paulo:20250203T183000
DTEND;TZID=America/Sao_Paulo:20250203T235900
DTSTAMP:20260424T055452
CREATED:20250123T022144Z
LAST-MODIFIED:20250131T121017Z
UID:9379-1738607400-1738627140@camarapavao.mg.gov.br
SUMMARY:Reunião Ordinária
DESCRIPTION:
URL:http://camarapavao.mg.gov.br/eventos/reuniao-ordinaria/
LOCATION:Câmara Municipal de Lorena/SP\, Praça Baronesa de Santa Eulália\, nº 02 Centro\, Lorena\, SP\, 12600-180\, Brazil
END:VEVENT
BEGIN:VEVENT
DTSTART;TZID=America/Sao_Paulo:20250203T183000
DTEND;TZID=America/Sao_Paulo:20250203T235900
DTSTAMP:20260424T055452
CREATED:20250123T022144Z
LAST-MODIFIED:20250131T121017Z
UID:9379-1738607400-1738627140@camarapavao.mg.gov.br
SUMMARY:Reunião Ordinária
DESCRIPTION:
URL:http://camarapavao.mg.gov.br/eventos/reuniao-ordinaria/
LOCATION:Câmara Municipal de Lorena/SP\, Praça Baronesa de Santa Eulália\, nº 02 Centro\, Lorena\, SP\, 12600-180\, Brazil
END:VEVENT
BEGIN:VEVENT
DTSTART;TZID=America/Sao_Paulo:20250203T183000
DTEND;TZID=America/Sao_Paulo:20250203T235900
DTSTAMP:20260424T055452
CREATED:20250123T022144Z
LAST-MODIFIED:20250131T121017Z
UID:9379-1738607400-1738627140@camarapavao.mg.gov.br
SUMMARY:Reunião Ordinária
DESCRIPTION:
URL:http://camarapavao.mg.gov.br/eventos/reuniao-ordinaria/
LOCATION:Câmara Municipal de Lorena/SP\, Praça Baronesa de Santa Eulália\, nº 02 Centro\, Lorena\, SP\, 12600-180\, Brazil
END:VEVENT
BEGIN:VEVENT
DTSTART;TZID=America/Sao_Paulo:20250203T183000
DTEND;TZID=America/Sao_Paulo:20250203T235900
DTSTAMP:20260424T055452
CREATED:20250123T022144Z
LAST-MODIFIED:20250131T121017Z
UID:9379-1738607400-1738627140@camarapavao.mg.gov.br
SUMMARY:Reunião Ordinária
DESCRIPTION:
URL:http://camarapavao.mg.gov.br/eventos/reuniao-ordinaria/
LOCATION:Câmara Municipal de Lorena/SP\, Praça Baronesa de Santa Eulália\, nº 02 Centro\, Lorena\, SP\, 12600-180\, Brazil
END:VEVENT
BEGIN:VEVENT
DTSTART;TZID=America/Sao_Paulo:20250203T183000
DTEND;TZID=America/Sao_Paulo:20250203T235900
DTSTAMP:20260424T055452
CREATED:20250123T022144Z
LAST-MODIFIED:20250131T121017Z
UID:9379-1738607400-1738627140@camarapavao.mg.gov.br
SUMMARY:Reunião Ordinária
DESCRIPTION:
URL:http://camarapavao.mg.gov.br/eventos/reuniao-ordinaria/
LOCATION:Câmara Municipal de Lorena/SP\, Praça Baronesa de Santa Eulália\, nº 02 Centro\, Lorena\, SP\, 12600-180\, Brazil
END:VEVENT
BEGIN:VEVENT
DTSTART;TZID=America/Sao_Paulo:20250203T183000
DTEND;TZID=America/Sao_Paulo:20250203T235900
DTSTAMP:20260424T055452
CREATED:20250123T022144Z
LAST-MODIFIED:20250131T121017Z
UID:9379-1738607400-1738627140@camarapavao.mg.gov.br
SUMMARY:Reunião Ordinária
DESCRIPTION:
URL:http://camarapavao.mg.gov.br/eventos/reuniao-ordinaria/
LOCATION:Câmara Municipal de Lorena/SP\, Praça Baronesa de Santa Eulália\, nº 02 Centro\, Lorena\, SP\, 12600-180\, Brazil
END:VEVENT
BEGIN:VEVENT
DTSTART;TZID=America/Sao_Paulo:20250203T183000
DTEND;TZID=America/Sao_Paulo:20250203T235900
DTSTAMP:20260424T055452
CREATED:20250123T022144Z
LAST-MODIFIED:20250131T121017Z
UID:9379-1738607400-1738627140@camarapavao.mg.gov.br
SUMMARY:Reunião Ordinária
DESCRIPTION:
URL:http://camarapavao.mg.gov.br/eventos/reuniao-ordinaria/
LOCATION:Câmara Municipal de Lorena/SP\, Praça Baronesa de Santa Eulália\, nº 02 Centro\, Lorena\, SP\, 12600-180\, Brazil
END:VEVENT
BEGIN:VEVENT
DTSTART;TZID=America/Sao_Paulo:20250203T183000
DTEND;TZID=America/Sao_Paulo:20250203T235900
DTSTAMP:20260424T055452
CREATED:20250123T022144Z
LAST-MODIFIED:20250131T121017Z
UID:9379-1738607400-1738627140@camarapavao.mg.gov.br
SUMMARY:Reunião Ordinária
DESCRIPTION:
URL:http://camarapavao.mg.gov.br/eventos/reuniao-ordinaria/
LOCATION:Câmara Municipal de Lorena/SP\, Praça Baronesa de Santa Eulália\, nº 02 Centro\, Lorena\, SP\, 12600-180\, Brazil
END:VEVENT
BEGIN:VEVENT
DTSTART;TZID=America/Sao_Paulo:20250203T183000
DTEND;TZID=America/Sao_Paulo:20250203T235900
DTSTAMP:20260424T055452
CREATED:20250123T022144Z
LAST-MODIFIED:20250131T121017Z
UID:9379-1738607400-1738627140@camarapavao.mg.gov.br
SUMMARY:Reunião Ordinária
DESCRIPTION:
URL:http://camarapavao.mg.gov.br/eventos/reuniao-ordinaria/
LOCATION:Câmara Municipal de Lorena/SP\, Praça Baronesa de Santa Eulália\, nº 02 Centro\, Lorena\, SP\, 12600-180\, Brazil
END:VEVENT
BEGIN:VEVENT
DTSTART;TZID=America/Sao_Paulo:20250203T183000
DTEND;TZID=America/Sao_Paulo:20250203T235900
DTSTAMP:20260424T055452
CREATED:20250123T022144Z
LAST-MODIFIED:20250131T121017Z
UID:9379-1738607400-1738627140@camarapavao.mg.gov.br
SUMMARY:Reunião Ordinária
DESCRIPTION:
URL:http://camarapavao.mg.gov.br/eventos/reuniao-ordinaria/
LOCATION:Câmara Municipal de Lorena/SP\, Praça Baronesa de Santa Eulália\, nº 02 Centro\, Lorena\, SP\, 12600-180\, Brazil
END:VEVENT
BEGIN:VEVENT
DTSTART;TZID=America/Sao_Paulo:20250203T183000
DTEND;TZID=America/Sao_Paulo:20250203T235900
DTSTAMP:20260424T055452
CREATED:20250123T022144Z
LAST-MODIFIED:20250131T121017Z
UID:9379-1738607400-1738627140@camarapavao.mg.gov.br
SUMMARY:Reunião Ordinária
DESCRIPTION:
URL:http://camarapavao.mg.gov.br/eventos/reuniao-ordinaria/
LOCATION:Câmara Municipal de Lorena/SP\, Praça Baronesa de Santa Eulália\, nº 02 Centro\, Lorena\, SP\, 12600-180\, Brazil
END:VEVENT
BEGIN:VEVENT
DTSTART;TZID=America/Sao_Paulo:20250203T183000
DTEND;TZID=America/Sao_Paulo:20250203T235900
DTSTAMP:20260424T055452
CREATED:20250123T022144Z
LAST-MODIFIED:20250131T121017Z
UID:9379-1738607400-1738627140@camarapavao.mg.gov.br
SUMMARY:Reunião Ordinária
DESCRIPTION:
URL:http://camarapavao.mg.gov.br/eventos/reuniao-ordinaria/
LOCATION:Câmara Municipal de Lorena/SP\, Praça Baronesa de Santa Eulália\, nº 02 Centro\, Lorena\, SP\, 12600-180\, Brazil
END:VEVENT
BEGIN:VEVENT
DTSTART;TZID=America/Sao_Paulo:20250203T183000
DTEND;TZID=America/Sao_Paulo:20250203T235900
DTSTAMP:20260424T055452
CREATED:20250123T022144Z
LAST-MODIFIED:20250131T121017Z
UID:9379-1738607400-1738627140@camarapavao.mg.gov.br
SUMMARY:Reunião Ordinária
DESCRIPTION:
URL:http://camarapavao.mg.gov.br/eventos/reuniao-ordinaria/
LOCATION:Câmara Municipal de Lorena/SP\, Praça Baronesa de Santa Eulália\, nº 02 Centro\, Lorena\, SP\, 12600-180\, Brazil
END:VEVENT
BEGIN:VEVENT
DTSTART;TZID=America/Sao_Paulo:20250203T183000
DTEND;TZID=America/Sao_Paulo:20250203T235900
DTSTAMP:20260424T055452
CREATED:20250123T022144Z
LAST-MODIFIED:20250131T121017Z
UID:9379-1738607400-1738627140@camarapavao.mg.gov.br
SUMMARY:Reunião Ordinária
DESCRIPTION:
URL:http://camarapavao.mg.gov.br/eventos/reuniao-ordinaria/
LOCATION:Câmara Municipal de Lorena/SP\, Praça Baronesa de Santa Eulália\, nº 02 Centro\, Lorena\, SP\, 12600-180\, Brazil
END:VEVENT
END:VCALENDAR